Workbook

Sheet 村上市全体
A1: 住民基本台帳人口 令和8年9月1日現在
B2: 村上 | C2: 荒川 | D2: 神林 | E2: 朝日 | F2: 山北 | H2: 世帯数 | L2: 人口（男） | O2: 人口（女） | R2: 人口（総計）
A3: 行政区コード | B3: 行政区名 | G3: よみかた | H3: 日本人 | I3: 外国人 | J3: 複数国籍 | K3: 計 | L3: 日本人男 | M3: 外国人男 | N3: 計 | O3: 日本人女 | P3: 外国人女 | Q3: 計 | R3: 日本人 | S3: 外国人 | T3: 計
A4: 1 | B4: 羽黒町 | C4: 羽黒町 | D4: 羽黒町 | E4: 羽黒町 | F4: 羽黒町 | G4: はぐろまち | H4: 217 | I4: 4 | J4: 0 | K4: 221 | L4: 247 | M4: 4 | N4: 251 | O4: 237 | P4: 0 | Q4: 237 | R4: 484 | S4: 4 | T4: 488
A5: 2 | B5: 長井町 | C5: 長井町 | D5: 長井町 | E5: 長井町 | F5: 長井町 | G5: ながいまち | H5: 41 | I5: 0 | J5: 0 | K5: 41 | L5: 50 | M5: 0 | N5: 50 | O5: 50 | P5: 0 | Q5: 50 | R5: 100 | S5: 0 | T5: 100
A6: 3 | B6: 上町 | C6: 上町 | D6: 上町 | E6: 上町 | F6: 上町 | G6: かんまち | H6: 40 | I6: 0 | J6: 0 | K6: 40 | L6: 43 | M6: 0 | N6: 43 | O6: 47 | P6: 0 | Q6: 47 | R6: 90 | S6: 0 | T6: 90
A7: 4 | B7: 大町 | C7: 大町 | D7: 大町 | E7: 大町 | F7: 大町 | G7: おおまち | H7: 20 | I7: 1 | J7: 1 | K7: 22 | L7: 25 | M7: 3 | N7: 28 | O7: 30 | P7: 1 | Q7: 31 | R7: 55 | S7: 4 | T7: 59
A8: 5 | B8: 小町 | C8: 小町 | D8: 小町 | E8: 小町 | F8: 小町 | G8: こまち | H8: 32 | I8: 0 | J8: 0 | K8: 32 | L8: 45 | M8: 0 | N8: 45 | O8: 44 | P8: 0 | Q8: 44 | R8: 89 | S8: 0 | T8: 89
A9: 6 | B9: 庄内町 | C9: 庄内町 | D9: 庄内町 | E9: 庄内町 | F9: 庄内町 | G9: しょうないまち | H9: 105 | I9: 0 | J9: 0 | K9: 105 | L9: 118 | M9: 0 | N9: 118 | O9: 139 | P9: 0 | Q9: 139 | R9: 257 | S9: 0 | T9: 257
A10: 7 | B10: 久保多町 | C10: 久保多町 | D10: 久保多町 | E10: 久保多町 | F10: 久保多町 | G10: くぼたまち | H10: 133 | I10: 0 | J10: 1 | K10: 134 | L10: 150 | M10: 0 | N10: 150 | O10: 163 | P10: 1 | Q10: 164 | R10: 313 | S10: 1 | T10: 314
A11: 8 | B11: 片町 | C11: 片町 | D11: 片町 | E11: 片町 | F11: 片町 | G11: かたまち | H11: 86 | I11: 0 | J11: 1 | K11: 87 | L11: 90 | M11: 0 | N11: 90 | O11: 103 | P11: 1 | Q11: 104 | R11: 193 | S11: 1 | T11: 194
A12: 9 | B12: 上片町 | C12: 上片町 | D12: 上片町 | E12: 上片町 | F12: 上片町 | G12: かみかたまち | H12: 73 | I12: 0 | J12: 0 | K12: 73 | L12: 78 | M12: 0 | N12: 78 | O12: 88 | P12: 0 | Q12: 88 | R12: 166 | S12: 0 | T12: 166
A13: 10 | B13: 加賀町 | C13: 加賀町 | D13: 加賀町 | E13: 加賀町 | F13: 加賀町 | G13: かがまち | H13: 63 | I13: 0 | J13: 0 | K13: 63 | L13: 74 | M13: 0 | N13: 74 | O13: 89 | P13: 0 | Q13: 89 | R13: 163 | S13: 0 | T13: 163
A14: 11 | B14: 泉町 | C14: 泉町 | D14: 泉町 | E14: 泉町 | F14: 泉町 | G14: いずみまち | H14: 93 | I14: 0 | J14: 0 | K14: 93 | L14: 107 | M14: 0 | N14: 107 | O14: 111 | P14: 0 | Q14: 111 | R14: 218 | S14: 0 | T14: 218
A15: 12 | B15: 塩町 | C15: 塩町 | D15: 塩町 | E15: 塩町 | F15: 塩町 | G15: しおまち | H15: 216 | I15: 3 | J15: 0 | K15: 219 | L15: 210 | M15: 0 | N15: 210 | O15: 235 | P15: 3 | Q15: 238 | R15: 445 | S15: 3 | T15: 448
... A77: 211 | B77: 松山 | C77: 松山 | D77: 松山 | E77: 松山 | F77: 松山 | G77: まつやま | H77: 101 | I77: 0 | J77: 1 | K77: 102 | L77: 97 | M77: 0 | N77: 97 | O77: 119 | P77: 1 | Q77: 120 | R77: 216 | S77: 1 | T77: 217
A78: 212 | B78: 三面 | G78: みおもて | H78: 33 | I78: 0 | J78: 0 | K78: 33 | L78: 41 | M78: 0 | N78: 41 | O78: 53 | P78: 0 | Q78: 53 | R78: 94 | S78: 0 | T78: 94
A79: 213 | B79: 下渡 | C79: 下渡 | D79: 下渡 | E79: 下渡 | F79: 下渡 | G79: げど | H79: 21 | I79: 0 | J79: 0 | K79: 21 | L79: 25 | M79: 0 | N79: 25 | O79: 19 | P79: 0 | Q79: 19 | R79: 44 | S79: 0 | T79: 44
A80: 214 | B80: 羽下ケ渕 | C80: 羽下ケ渕 | D80: 羽下ケ渕 | E80: 羽下ケ渕 | F80: 羽下ケ渕 | G80: はげがふち | H80: 32 | I80: 0 | J80: 0 | K80: 32 | L80: 49 | M80: 0 | N80: 49 | O80: 50 | P80: 0 | Q80: 50 | R80: 99 | S80: 0 | T80: 99
A81: 215 | B81: 大平 | C81: 大平 | D81: 大平 | E81: 大平 | F81: 大平 | G81: おおだいら | H81: 9 | I81: 0 | J81: 0 | K81: 9 | L81: 6 | M81: 0 | N81: 6 | O81: 7 | P81: 0 | Q81: 7 | R81: 13 | S81: 0 | T81: 13
A82: 216 | B82: 滝の前 | C82: 滝の前 | D82: 滝の前 | E82: 滝の前 | F82: 滝の前 | G82: たきのまえ | H82: 29 | I82: 0 | J82: 0 | K82: 29 | L82: 24 | M82: 0 | N82: 24 | O82: 23 | P82: 0 | Q82: 23 | R82: 47 | S82: 0 | T82: 47
A83: 217 | B83: 松原町一丁目 | C83: 松原町一丁目 | D83: 松原町一丁目 | E83: 松原町一丁目 | F83: 松原町一丁目 | G83: まつばらちょういっちょうめ | H83: 100 | I83: 2 | J83: 1 | K83: 103 | L83: 106 | M83: 3 | N83: 109 | O83: 124 | P83: 0 | Q83: 124 | R83: 230 | S83: 3 | T83: 233
A84: 218 | B84: 松原町二丁目 | C84: 松原町二丁目 | D84: 松原町二丁目 | E84: 松原町二丁目 | F84: 松原町二丁目 | G84: まつばらちょうにちょうめ | H84: 98 | I84: 0 | J84: 0 | K84: 98 | L84: 116 | M84: 0 | N84: 116 | O84: 127 | P84: 0 | Q84: 127 | R84: 243 | S84: 0 | T84: 243
A85: 219 | B85: 松原町住宅 | C85: 松原町住宅 | D85: 松原町住宅 | E85: 松原町住宅 | F85: 松原町住宅 | G85: まつばらちょうじゅうたく | H85: 61 | I85: 2 | J85: 1 | K85: 64 | L85: 50 | M85: 4 | N85: 54 | O85: 61 | P85: 2 | Q85: 63 | R85: 111 | S85: 6 | T85: 117
A86: 220 | B86: 松原町三丁目 | C86: 松原町三丁目 | D86: 松原町三丁目 | E86: 松原町三丁目 | F86: 松原町三丁目 | G86: まつばらちょうさんちょうめ | H86: 85 | I86: 0 | J86: 1 | K86: 86 | L86: 98 | M86: 0 | N86: 98 | O86: 116 | P86: 1 | Q86: 117 | R86: 214 | S86: 1 | T86: 215
A87: 221 | B87: 松原町四丁目 | C87: 松原町四丁目 | D87: 松原町四丁目 | E87: 松原町四丁目 | F87: 松原町四丁目 | G87: まつばらちょうよんちょうめ | H87: 76 | I87: 2 | J87: 0 | K87: 78 | L87: 84 | M87: 0 | N87: 84 | O87: 101 | P87: 2 | Q87: 103 | R87: 185 | S87: 2 | T87: 187
A88: 222 | B88: 松山かみの | G88: まつやまかみの | H88: 19 | I88: 0 | J88: 0 | K88: 19 | L88: 22 | M88: 0 | N88: 22 | O88: 16 | P88: 0 | Q88: 16 | R88: 38 | S88: 0 | T88: 38
A89: 301 | B89: 山辺里 | C89: 山辺里 | D89: 山辺里 | E89: 山辺里 | F89: 山辺里 | G89: さべり | H89: 468 | I89: 24 | J89: 3 | K89: 495 | L89: 588 | M89: 5 | N89: 593 | O89: 582 | P89: 27 | Q89: 609 | R89: 1170 | S89: 32 | T89: 1202
A90: 302 | B90: 四日市 | C90: 四日市 | D90: 四日市 | E90: 四日市 | F90: 四日市 | G90: よっかいち | H90: 94 | I90: 2 | J90: 2 | K90: 98 | L90: 136 | M90: 3 | N90: 139 | O90: 140 | P90: 2 | Q90: 142 | R90: 276 | S90: 5 | T90: 281
A91: 303 | B91: 天神岡 | C91: 天神岡 | D91: 天神岡 | E91: 天神岡 | F91: 天神岡 | G91: てんじんおか | H91: 113 | I91: 0 | J91: 1 | K91: 114 | L91: 161 | M91: 0 | N91: 161 | O91: 148 | P91: 1 | Q91: 149 | R91: 309 | S91: 1 | T91: 310
A92: 304 | B92: 西興屋 | C92: 西興屋 | D92: 西興屋 | E92: 西興屋 | F92: 西興屋 | G92: にしこうや | H92: 26 | I92: 0 | J92: 0 | K92: 26 | L92: 25 | M92: 0 | N92: 25 | O92: 33 | P92: 0 | Q92: 33 | R92: 58 | S92: 0 | T92: 58
A93: 305 | B93: 仲間町 | C93: 仲間町 | D93: 仲間町 | E93: 仲間町 | F93: 仲間町 | G93: ちゅうげんまち | H93: 82 | I93: 0 | J93: 0 | K93: 82 | L93: 102 | M93: 0 | N93: 102 | O93: 103 | P93: 0 | Q93: 103 | R93: 205 | S93: 0 | T93: 205
A94: 306 | B94: 坪根 | C94: 坪根 | D94: 坪根 | E94: 坪根 | F94: 坪根 | G94: つぼね | H94: 44 | I94: 2 | J94: 0 | K94: 46 | L94: 56 | M94: 0 | N94: 56 | O94: 52 | P94: 2 | Q94: 54 | R94: 108 | S94: 2 | T94: 110
A95: 307 | B95: 下相川 | C95: 下相川 | D95: 下相川 | E95: 下相川 | F95: 下相川 | G95: しもあいかわ | H95: 83 | I95: 20 | J95: 0 | K95: 103 | L95: 111 | M95: 0 | N95: 111 | O95: 96 | P95: 20 | Q95: 116 | R95: 207 | S95: 20 | T95: 227
A96: 308 | B96: 上相川 | C96: 上相川 | D96: 上相川 | E96: 上相川 | F96: 上相川 | G96: かみあいかわ | H96: 30 | I96: 0 | J96: 0 | K96: 30 | L96: 39 | M96: 0 | N96: 39 | O96: 45 | P96: 0 | Q96: 45 | R96: 84 | S96: 0 | T96: 84
A97: 309 | B97: 日下 | C97: 日下 | D97: 日下 | E97: 日下 | F97: 日下 | G97: くさか | H97: 45 | I97: 0 | J97: 0 | K97: 45 | L97: 59 | M97: 0 | N97: 59 | O97: 57 | P97: 0 | Q97: 57 | R97: 116 | S97: 0 | T97: 116
A98: 310 | B98: 小谷 | C98: 小谷 | D98: 小谷 | E98: 小谷 | F98: 小谷 | G98: おだに | H98: 9 | I98: 0 | J98: 0 | K98: 9 | L98: 10 | M98: 0 | N98: 10 | O98: 11 | P98: 0 | Q98: 11 | R98: 21 | S98: 0 | T98: 21
A99: 311 | B99: 下山田 | C99: 下山田 | D99: 下山田 | E99: 下山田 | F99: 下山田 | G99: しもやまだ | H99: 31 | I99: 0 | J99: 0 | K99: 31 | L99: 41 | M99: 0 | N99: 41 | O99: 44 | P99: 0 | Q99: 44 | R99: 85 | S99: 0 | T99: 85
A100: 312 | B100: 上山田 | C100: 上山田 | D100: 上山田 | E100: 上山田 | F100: 上山田 | G100: かみやまだ | H100: 13 | I100: 0 | J100: 0 | K100: 13 | L100: 24 | M100: 0 | N100: 24 | O100: 21 | P100: 0 | Q100: 21 | R100: 45 | S100: 0 | T100: 45
... A283: 7490 | B283: 越沢 | C283: 越沢 | D283: 越沢 | E283: 越沢 | F283: 越沢 | G283: こえさわ | H283: 42 | I283: 0 | J283: 0 | K283: 42 | L283: 49 | M283: 0 | N283: 49 | O283: 57 | P283: 0 | Q283: 57 | R283: 106 | S283: 0 | T283: 106
A284: 合計 | H284: =SUM(H4:H283) -> 21379 | I284: =SUM(I4:I283) -> 481 | J284: =SUM(J4:J283) -> 87 | K284: =SUM(K4:K283) -> 21947 | L284: =SUM(L4:L283) -> 24532 | M284: =SUM(M4:M283) -> 201 | N284: =SUM(N4:N283) -> 24733 | O284: =SUM(O4:O283) -> 26293 | ... T284: =SUM(T4:T283) -> 51423

Sheet 村上地区
A1: =村上市全体!A1 -> 住民基本台帳人口 令和8年9月1日現在
C2: 世帯数 | G2: 人口（男） | J2: 人口（女） | M2: 人口（総計）
A3: 行政区コード | B3: 行政区名 | C3: 日本人 | D3: 外国人 | E3: 複数国籍 | F3: 計 | G3: 日本人男 | H3: 外国人男 | I3: 計 | J3: 日本人女 | K3: 外国人女 | L3: 計 | M3: 日本人 | N3: 外国人 | O3: 計
A4: 1 | B4: 羽黒町 | C4: =村上市全体!H4 -> 217 | D4: =村上市全体!I4 -> 4 | E4: =村上市全体!J4 -> 0 | F4: =村上市全体!K4 -> 221 | G4: =村上市全体!L4 -> 247 | H4: =村上市全体!M4 -> 4 | I4: =村上市全体!N4 -> 251 | J4: =村上市全体!O4 -> 237 | ... O4: =村上市全体!T4 -> 488
A5: 2 | B5: 長井町 | C5: =村上市全体!H5 -> 41 | D5: =村上市全体!I5 -> 0 | E5: =村上市全体!J5 -> 0 | F5: =村上市全体!K5 -> 41 | G5: =村上市全体!L5 -> 50 | H5: =村上市全体!M5 -> 0 | I5: =村上市全体!N5 -> 50 | J5: =村上市全体!O5 -> 50 | ... O5: =村上市全体!T5 -> 100
A6: 3 | B6: 上町 | C6: =村上市全体!H6 -> 40 | D6: =村上市全体!I6 -> 0 | E6: =村上市全体!J6 -> 0 | F6: =村上市全体!K6 -> 40 | G6: =村上市全体!L6 -> 43 | H6: =村上市全体!M6 -> 0 | I6: =村上市全体!N6 -> 43 | J6: =村上市全体!O6 -> 47 | ... O6: =村上市全体!T6 -> 90
A7: 4 | B7: 大町 | C7: =村上市全体!H7 -> 20 | D7: =村上市全体!I7 -> 1 | E7: =村上市全体!J7 -> 1 | F7: =村上市全体!K7 -> 22 | G7: =村上市全体!L7 -> 25 | H7: =村上市全体!M7 -> 3 | I7: =村上市全体!N7 -> 28 | J7: =村上市全体!O7 -> 30 | ... O7: =村上市全体!T7 -> 59
A8: 5 | B8: 小町 | C8: =村上市全体!H8 -> 32 | D8: =村上市全体!I8 -> 0 | E8: =村上市全体!J8 -> 0 | F8: =村上市全体!K8 -> 32 | G8: =村上市全体!L8 -> 45 | H8: =村上市全体!M8 -> 0 | I8: =村上市全体!N8 -> 45 | J8: =村上市全体!O8 -> 44 | ... O8: =村上市全体!T8 -> 89
A9: 6 | B9: 庄内町 | C9: =村上市全体!H9 -> 105 | D9: =村上市全体!I9 -> 0 | E9: =村上市全体!J9 -> 0 | F9: =村上市全体!K9 -> 105 | G9: =村上市全体!L9 -> 118 | H9: =村上市全体!M9 -> 0 | I9: =村上市全体!N9 -> 118 | J9: =村上市全体!O9 -> 139 | ... O9: =村上市全体!T9 -> 257
A10: 7 | B10: 久保多町 | C10: =村上市全体!H10 -> 133 | D10: =村上市全体!I10 -> 0 | E10: =村上市全体!J10 -> 1 | F10: =村上市全体!K10 -> 134 | G10: =村上市全体!L10 -> 150 | H10: =村上市全体!M10 -> 0 | I10: =村上市全体!N10 -> 150 | J10: =村上市全体!O10 -> 163 | ... O10: =村上市全体!T10 -> 314
A11: 8 | B11: 片町 | C11: =村上市全体!H11 -> 86 | D11: =村上市全体!I11 -> 0 | E11: =村上市全体!J11 -> 1 | F11: =村上市全体!K11 -> 87 | G11: =村上市全体!L11 -> 90 | H11: =村上市全体!M11 -> 0 | I11: =村上市全体!N11 -> 90 | J11: =村上市全体!O11 -> 103 | ... O11: =村上市全体!T11 -> 194
A12: 9 | B12: 上片町 | C12: =村上市全体!H12 -> 73 | D12: =村上市全体!I12 -> 0 | E12: =村上市全体!J12 -> 0 | F12: =村上市全体!K12 -> 73 | G12: =村上市全体!L12 -> 78 | H12: =村上市全体!M12 -> 0 | I12: =村上市全体!N12 -> 78 | J12: =村上市全体!O12 -> 88 | ... O12: =村上市全体!T12 -> 166
A13: 10 | B13: 加賀町 | C13: =村上市全体!H13 -> 63 | D13: =村上市全体!I13 -> 0 | E13: =村上市全体!J13 -> 0 | F13: =村上市全体!K13 -> 63 | G13: =村上市全体!L13 -> 74 | H13: =村上市全体!M13 -> 0 | I13: =村上市全体!N13 -> 74 | J13: =村上市全体!O13 -> 89 | ... O13: =村上市全体!T13 -> 163
A14: 11 | B14: 泉町 | C14: =村上市全体!H14 -> 93 | D14: =村上市全体!I14 -> 0 | E14: =村上市全体!J14 -> 0 | F14: =村上市全体!K14 -> 93 | G14: =村上市全体!L14 -> 107 | H14: =村上市全体!M14 -> 0 | I14: =村上市全体!N14 -> 107 | J14: =村上市全体!O14 -> 111 | ... O14: =村上市全体!T14 -> 218
A15: 12 | B15: 塩町 | C15: =村上市全体!H15 -> 216 | D15: =村上市全体!I15 -> 3 | E15: =村上市全体!J15 -> 0 | F15: =村上市全体!K15 -> 219 | G15: =村上市全体!L15 -> 210 | H15: =村上市全体!M15 -> 0 | I15: =村上市全体!N15 -> 210 | J15: =村上市全体!O15 -> 235 | ... O15: =村上市全体!T15 -> 448
... A116: 358 | B116: 馬下 | C116: =村上市全体!H116 -> 30 | D116: =村上市全体!I116 -> 0 | E116: =村上市全体!J116 -> 0 | F116: =村上市全体!K116 -> 30 | G116: =村上市全体!L116 -> 22 | H116: =村上市全体!M116 -> 0 | I116: =村上市全体!N116 -> 22 | J116: =村上市全体!O116 -> 25 | ... O116: =村上市全体!T116 -> 47
A117: 合計 | C117: =SUM(C4:C116) -> 10270 | D117: =SUM(D4:D116) -> 211 | E117: =SUM(E4:E116) -> 32 | F117: =SUM(F4:F116) -> 10513 | G117: =SUM(G4:G116) -> 11060 | H117: =SUM(H4:H116) -> 99 | I117: =SUM(I4:I116) -> 11159 | J117: =SUM(J4:J116) -> 11989 | ... O117: =SUM(O4:O116) -> 23308

Sheet 荒川地区
A1: =村上市全体!A1 -> 住民基本台帳人口 令和8年9月1日現在
C2: 世帯数 | G2: 人口（男） | J2: 人口（女） | M2: 人口（総計）
A3: 行政区コード | B3: 行政区名 | C3: 日本人 | D3: 外国人 | E3: 複数国籍 | F3: 計 | G3: 日本人男 | H3: 外国人男 | I3: 計 | J3: 日本人女 | K3: 外国人女 | L3: 計 | M3: 日本人 | N3: 外国人 | O3: 計
A4: 4010 | B4: 貝附 | C4: =村上市全体!H117 -> 51 | D4: =村上市全体!I117 -> 0 | E4: =村上市全体!J117 -> 0 | F4: =村上市全体!K117 -> 51 | G4: =村上市全体!L117 -> 59 | H4: =村上市全体!M117 -> 0 | I4: =村上市全体!N117 -> 59 | J4: =村上市全体!O117 -> 70 | ... O4: =村上市全体!T117 -> 129
A5: 4020 | B5: 花立 | C5: =村上市全体!H118 -> 18 | D5: =村上市全体!I118 -> 0 | E5: =村上市全体!J118 -> 0 | F5: =村上市全体!K118 -> 18 | G5: =村上市全体!L118 -> 20 | H5: =村上市全体!M118 -> 0 | I5: =村上市全体!N118 -> 20 | J5: =村上市全体!O118 -> 24 | ... O5: =村上市全体!T118 -> 44
A6: 4030 | B6: 荒島 | C6: =村上市全体!H119 -> 105 | D6: =村上市全体!I119 -> 0 | E6: =村上市全体!J119 -> 0 | F6: =村上市全体!K119 -> 105 | G6: =村上市全体!L119 -> 146 | H6: =村上市全体!M119 -> 0 | I6: =村上市全体!N119 -> 146 | J6: =村上市全体!O119 -> 146 | ... O6: =村上市全体!T119 -> 292
A7: 4040 | B7: 春木山 | C7: =村上市全体!H120 -> 43 | D7: =村上市全体!I120 -> 0 | E7: =村上市全体!J120 -> 0 | F7: =村上市全体!K120 -> 43 | G7: =村上市全体!L120 -> 61 | H7: =村上市全体!M120 -> 0 | I7: =村上市全体!N120 -> 61 | J7: =村上市全体!O120 -> 59 | ... O7: =村上市全体!T120 -> 120
A8: 4050 | B8: 上鍜冶屋 | C8: =村上市全体!H121 -> 25 | D8: =村上市全体!I121 -> 0 | E8: =村上市全体!J121 -> 0 | F8: =村上市全体!K121 -> 25 | G8: =村上市全体!L121 -> 36 | H8: =村上市全体!M121 -> 0 | I8: =村上市全体!N121 -> 36 | J8: =村上市全体!O121 -> 29 | ... O8: =村上市全体!T121 -> 65
A9: 4060 | B9: 下鍜冶屋 | C9: =村上市全体!H122 -> 344 | D9: =村上市全体!I122 -> 4 | E9: =村上市全体!J122 -> 1 | F9: =村上市全体!K122 -> 349 | G9: =村上市全体!L122 -> 357 | H9: =村上市全体!M122 -> 6 | I9: =村上市全体!N122 -> 363 | J9: =村上市全体!O122 -> 461 | ... O9: =村上市全体!T122 -> 828
A10: 4070 | B10: 梨木 | C10: =村上市全体!H123 -> 35 | D10: =村上市全体!I123 -> 0 | E10: =村上市全体!J123 -> 0 | F10: =村上市全体!K123 -> 35 | G10: =村上市全体!L123 -> 51 | H10: =村上市全体!M123 -> 0 | I10: =村上市全体!N123 -> 51 | J10: =村上市全体!O123 -> 52 | ... O10: =村上市全体!T123 -> 103
A11: 4080 | B11: 切田 | C11: =村上市全体!H124 -> 94 | D11: =村上市全体!I124 -> 2 | E11: =村上市全体!J124 -> 0 | F11: =村上市全体!K124 -> 96 | G11: =村上市全体!L124 -> 138 | H11: =村上市全体!M124 -> 2 | I11: =村上市全体!N124 -> 140 | J11: =村上市全体!O124 -> 144 | ... O11: =村上市全体!T124 -> 284
A12: 4091 | B12: 十文字 | C12: =村上市全体!H125 -> 162 | D12: =村上市全体!I125 -> 113 | E12: =村上市全体!J125 -> 2 | F12: =村上市全体!K125 -> 277 | G12: =村上市全体!L125 -> 188 | H12: =村上市全体!M125 -> 9 | I12: =村上市全体!N125 -> 197 | J12: =村上市全体!O125 -> 167 | ... O12: =村上市全体!T125 -> 472
A13: 4092 | B13: 野口 | C13: =村上市全体!H126 -> 47 | D13: =村上市全体!I126 -> 0 | E13: =村上市全体!J126 -> 2 | F13: =村上市全体!K126 -> 49 | G13: =村上市全体!L126 -> 71 | H13: =村上市全体!M126 -> 1 | I13: =村上市全体!N126 -> 72 | J13: =村上市全体!O126 -> 69 | ... O13: =村上市全体!T126 -> 143
A14: 4093 | B14: 坂町住宅 | C14: =村上市全体!H127 -> 71 | D14: =村上市全体!I127 -> 5 | E14: =村上市全体!J127 -> 0 | F14: =村上市全体!K127 -> 76 | G14: =村上市全体!L127 -> 68 | H14: =村上市全体!M127 -> 5 | I14: =村上市全体!N127 -> 73 | J14: =村上市全体!O127 -> 87 | ... O14: =村上市全体!T127 -> 160
A15: 4100 | B15: 坂町 | C15: =村上市全体!H128 -> 549 | D15: =村上市全体!I128 -> 4 | E15: =村上市全体!J128 -> 0 | F15: =村上市全体!K128 -> 553 | G15: =村上市全体!L128 -> 663 | H15: =村上市全体!M128 -> 3 | I15: =村上市全体!N128 -> 666 | J15: =村上市全体!O128 -> 698 | ... O15: =村上市全体!T128 -> 1365
... A34: 4300 | B34: 堤下団地 | C34: =村上市全体!H147 -> 60 | D34: =村上市全体!I147 -> 0 | E34: =村上市全体!J147 -> 3 | F34: =村上市全体!K147 -> 63 | G34: =村上市全体!L147 -> 40 | H34: =村上市全体!M147 -> 0 | I34: =村上市全体!N147 -> 40 | J34: =村上市全体!O147 -> 51 | ... O34: =村上市全体!T147 -> 94
A35: 合計 | C35: =SUM(C4:C34) -> 3593 | D35: =SUM(D4:D34) -> 156 | E35: =SUM(E4:E34) -> 12 | F35: =SUM(F4:F34) -> 3761 | G35: =SUM(G4:G34) -> 4327 | H35: =SUM(H4:H34) -> 48 | I35: =SUM(I4:I34) -> 4375 | J35: =SUM(J4:J34) -> 4559 | ... O35: =SUM(O4:O34) -> 9063

Sheet 神林地区
A1: =村上市全体!A1 -> 住民基本台帳人口 令和8年9月1日現在
C2: 世帯数 | G2: 人口（男） | J2: 人口（女） | M2: 人口（総計）
A3: 行政区コード | B3: 行政区名 | C3: 日本人 | D3: 外国人 | E3: 複数国籍 | F3: 計 | G3: 日本人男 | H3: 外国人男 | I3: 計 | J3: 日本人女 | K3: 外国人女 | L3: 計 | M3: 日本人 | N3: 外国人 | O3: 計
A4: 5010 | B4: 松沢 | C4: =村上市全体!H148 -> 64 | D4: =村上市全体!I148 -> 0 | E4: =村上市全体!J148 -> 0 | F4: =村上市全体!K148 -> 64 | G4: =村上市全体!L148 -> 95 | H4: =村上市全体!M148 -> 0 | I4: =村上市全体!N148 -> 95 | J4: =村上市全体!O148 -> 88 | ... O4: =村上市全体!T148 -> 183
A5: 5020 | B5: 岩野沢 | C5: =村上市全体!H149 -> 4 | D5: =村上市全体!I149 -> 0 | E5: =村上市全体!J149 -> 0 | F5: =村上市全体!K149 -> 4 | G5: =村上市全体!L149 -> 6 | H5: =村上市全体!M149 -> 0 | I5: =村上市全体!N149 -> 6 | J5: =村上市全体!O149 -> 6 | ... O5: =村上市全体!T149 -> 12
A6: 5030 | B6: 山田 | C6: =村上市全体!H150 -> 49 | D6: =村上市全体!I150 -> 0 | E6: =村上市全体!J150 -> 0 | F6: =村上市全体!K150 -> 49 | G6: =村上市全体!L150 -> 69 | H6: =村上市全体!M150 -> 0 | I6: =村上市全体!N150 -> 69 | J6: =村上市全体!O150 -> 69 | ... O6: =村上市全体!T150 -> 138
A7: 5040 | B7: 飯岡 | C7: =村上市全体!H151 -> 56 | D7: =村上市全体!I151 -> 0 | E7: =村上市全体!J151 -> 1 | F7: =村上市全体!K151 -> 57 | G7: =村上市全体!L151 -> 81 | H7: =村上市全体!M151 -> 0 | I7: =村上市全体!N151 -> 81 | J7: =村上市全体!O151 -> 82 | ... O7: =村上市全体!T151 -> 164
A8: 5050 | B8: 桃川 | C8: =村上市全体!H152 -> 118 | D8: =村上市全体!I152 -> 0 | E8: =村上市全体!J152 -> 1 | F8: =村上市全体!K152 -> 119 | G8: =村上市全体!L152 -> 165 | H8: =村上市全体!M152 -> 0 | I8: =村上市全体!N152 -> 165 | J8: =村上市全体!O152 -> 163 | ... O8: =村上市全体!T152 -> 329
A9: 5060 | B9: 河内 | C9: =村上市全体!H153 -> 20 | D9: =村上市全体!I153 -> 0 | E9: =村上市全体!J153 -> 0 | F9: =村上市全体!K153 -> 20 | G9: =村上市全体!L153 -> 17 | H9: =村上市全体!M153 -> 0 | I9: =村上市全体!N153 -> 17 | J9: =村上市全体!O153 -> 19 | ... O9: =村上市全体!T153 -> 36
A10: 5070 | B10: 南大平 | C10: =村上市全体!H154 -> 31 | D10: =村上市全体!I154 -> 0 | E10: =村上市全体!J154 -> 0 | F10: =村上市全体!K154 -> 31 | G10: =村上市全体!L154 -> 46 | H10: =村上市全体!M154 -> 0 | I10: =村上市全体!N154 -> 46 | J10: =村上市全体!O154 -> 50 | ... O10: =村上市全体!T154 -> 96
A11: 5080 | B11: 指合 | C11: =村上市全体!H155 -> 57 | D11: =村上市全体!I155 -> 0 | E11: =村上市全体!J155 -> 0 | F11: =村上市全体!K155 -> 57 | G11: =村上市全体!L155 -> 66 | H11: =村上市全体!M155 -> 0 | I11: =村上市全体!N155 -> 66 | J11: =村上市全体!O155 -> 73 | ... O11: =村上市全体!T155 -> 139
A12: 5090 | B12: 殿岡 | C12: =村上市全体!H156 -> 38 | D12: =村上市全体!I156 -> 0 | E12: =村上市全体!J156 -> 0 | F12: =村上市全体!K156 -> 38 | G12: =村上市全体!L156 -> 60 | H12: =村上市全体!M156 -> 0 | I12: =村上市全体!N156 -> 60 | J12: =村上市全体!O156 -> 65 | ... O12: =村上市全体!T156 -> 125
A13: 5100 | B13: 小出 | C13: =村上市全体!H157 -> 43 | D13: =村上市全体!I157 -> 0 | E13: =村上市全体!J157 -> 1 | F13: =村上市全体!K157 -> 44 | G13: =村上市全体!L157 -> 49 | H13: =村上市全体!M157 -> 0 | I13: =村上市全体!N157 -> 49 | J13: =村上市全体!O157 -> 60 | ... O13: =村上市全体!T157 -> 110
A14: 5110 | B14: 有明 | C14: =村上市全体!H158 -> 94 | D14: =村上市全体!I158 -> 0 | E14: =村上市全体!J158 -> 0 | F14: =村上市全体!K158 -> 94 | G14: =村上市全体!L158 -> 119 | H14: =村上市全体!M158 -> 0 | I14: =村上市全体!N158 -> 119 | J14: =村上市全体!O158 -> 146 | ... O14: =村上市全体!T158 -> 265
A15: 5120 | B15: 里本庄 | C15: =村上市全体!H159 -> 36 | D15: =村上市全体!I159 -> 0 | E15: =村上市全体!J159 -> 0 | F15: =村上市全体!K159 -> 36 | G15: =村上市全体!L159 -> 59 | H15: =村上市全体!M159 -> 0 | I15: =村上市全体!N159 -> 59 | J15: =村上市全体!O159 -> 53 | ... O15: =村上市全体!T159 -> 112
... A43: 5390 | B43: 岩船駅前 | C43: =村上市全体!H187 -> 62 | D43: =村上市全体!I187 -> 0 | E43: =村上市全体!J187 -> 1 | F43: =村上市全体!K187 -> 63 | G43: =村上市全体!L187 -> 74 | H43: =村上市全体!M187 -> 0 | I43: =村上市全体!N187 -> 74 | J43: =村上市全体!O187 -> 73 | ... O43: =村上市全体!T187 -> 148
A44: 合計 | C44: =SUM(C4:C43) -> 2782 | D44: =SUM(D4:D43) -> 25 | E44: =SUM(E4:E43) -> 12 | F44: =SUM(F4:F43) -> 2819 | G44: =SUM(G4:G43) -> 3508 | H44: =SUM(H4:H43) -> 22 | I44: =SUM(I4:I43) -> 3530 | J44: =SUM(J4:J43) -> 3752 | ... O44: =SUM(O4:O43) -> 7299

Sheet 朝日地区
A1: =村上市全体!A1 -> 住民基本台帳人口 令和8年9月1日現在
C2: 世帯数 | G2: 人口（男） | J2: 人口（女） | M2: 人口（総計）
A3: 行政区コード | B3: 行政区名 | C3: 日本人 | D3: 外国人 | E3: 複数国籍 | F3: 計 | G3: 日本人男 | H3: 外国人男 | I3: 計 | J3: 日本人女 | K3: 外国人女 | L3: 計 | M3: 日本人 | N3: 外国人 | O3: 計
A4: 6101 | B4: 大場沢 | C4: =村上市全体!H188 -> 104 | D4: =村上市全体!I188 -> 0 | E4: =村上市全体!J188 -> 3 | F4: =村上市全体!K188 -> 107 | G4: =村上市全体!L188 -> 132 | H4: =村上市全体!M188 -> 0 | I4: =村上市全体!N188 -> 132 | J4: =村上市全体!O188 -> 104 | ... O4: =村上市全体!T188 -> 239
A5: 6102 | B5: 古渡路 | C5: =村上市全体!H189 -> 85 | D5: =村上市全体!I189 -> 0 | E5: =村上市全体!J189 -> 0 | F5: =村上市全体!K189 -> 85 | G5: =村上市全体!L189 -> 101 | H5: =村上市全体!M189 -> 0 | I5: =村上市全体!N189 -> 101 | J5: =村上市全体!O189 -> 111 | ... O5: =村上市全体!T189 -> 212
A6: 6103 | B6: 小川 | C6: =村上市全体!H190 -> 93 | D6: =村上市全体!I190 -> 4 | E6: =村上市全体!J190 -> 0 | F6: =村上市全体!K190 -> 97 | G6: =村上市全体!L190 -> 123 | H6: =村上市全体!M190 -> 4 | I6: =村上市全体!N190 -> 127 | J6: =村上市全体!O190 -> 122 | ... O6: =村上市全体!T190 -> 249
A7: 6104 | B7: 十川 | C7: =村上市全体!H191 -> 58 | D7: =村上市全体!I191 -> 0 | E7: =村上市全体!J191 -> 0 | F7: =村上市全体!K191 -> 58 | G7: =村上市全体!L191 -> 83 | H7: =村上市全体!M191 -> 0 | I7: =村上市全体!N191 -> 83 | J7: =村上市全体!O191 -> 84 | ... O7: =村上市全体!T191 -> 167
A8: 6105 | B8: 下新保 | C8: =村上市全体!H192 -> 142 | D8: =村上市全体!I192 -> 0 | E8: =村上市全体!J192 -> 3 | F8: =村上市全体!K192 -> 145 | G8: =村上市全体!L192 -> 222 | H8: =村上市全体!M192 -> 1 | I8: =村上市全体!N192 -> 223 | J8: =村上市全体!O192 -> 209 | ... O8: =村上市全体!T192 -> 435
A9: 6106 | B9: 笹平 | C9: =村上市全体!H193 -> 37 | D9: =村上市全体!I193 -> 0 | E9: =村上市全体!J193 -> 1 | F9: =村上市全体!K193 -> 38 | G9: =村上市全体!L193 -> 60 | H9: =村上市全体!M193 -> 0 | I9: =村上市全体!N193 -> 60 | J9: =村上市全体!O193 -> 62 | ... O9: =村上市全体!T193 -> 123
A10: 6107 | B10: 瑞雲 | C10: =村上市全体!H194 -> 16 | D10: =村上市全体!I194 -> 0 | E10: =村上市全体!J194 -> 0 | F10: =村上市全体!K194 -> 16 | G10: =村上市全体!L194 -> 27 | H10: =村上市全体!M194 -> 0 | I10: =村上市全体!N194 -> 27 | J10: =村上市全体!O194 -> 25 | ... O10: =村上市全体!T194 -> 52
A11: 6108 | B11: 釜杭 | C11: =村上市全体!H195 -> 11 | D11: =村上市全体!I195 -> 0 | E11: =村上市全体!J195 -> 0 | F11: =村上市全体!K195 -> 11 | G11: =村上市全体!L195 -> 9 | H11: =村上市全体!M195 -> 0 | I11: =村上市全体!N195 -> 9 | J11: =村上市全体!O195 -> 15 | ... O11: =村上市全体!T195 -> 24
A12: 6109 | B12: 小揚 | C12: =村上市全体!H196 -> 26 | D12: =村上市全体!I196 -> 0 | E12: =村上市全体!J196 -> 0 | F12: =村上市全体!K196 -> 26 | G12: =村上市全体!L196 -> 32 | H12: =村上市全体!M196 -> 0 | I12: =村上市全体!N196 -> 32 | J12: =村上市全体!O196 -> 42 | ... O12: =村上市全体!T196 -> 74
A13: 6111 | B13: 熊登 | C13: =村上市全体!H197 -> 14 | D13: =村上市全体!I197 -> 0 | E13: =村上市全体!J197 -> 0 | F13: =村上市全体!K197 -> 14 | G13: =村上市全体!L197 -> 20 | H13: =村上市全体!M197 -> 0 | I13: =村上市全体!N197 -> 20 | J13: =村上市全体!O197 -> 15 | ... O13: =村上市全体!T197 -> 35
A14: 6151 | B14: あけぼの | C14: =村上市全体!H198 -> 53 | D14: =村上市全体!I198 -> 12 | E14: =村上市全体!J198 -> 0 | F14: =村上市全体!K198 -> 65 | G14: =村上市全体!L198 -> 69 | H14: =村上市全体!M198 -> 0 | I14: =村上市全体!N198 -> 69 | J14: =村上市全体!O198 -> 67 | ... O14: =村上市全体!T198 -> 148
A15: 6213 | B15: 岩崩 | C15: =村上市全体!H199 -> 30 | D15: =村上市全体!I199 -> 0 | E15: =村上市全体!J199 -> 0 | F15: =村上市全体!K199 -> 30 | G15: =村上市全体!L199 -> 38 | H15: =村上市全体!M199 -> 0 | I15: =村上市全体!N199 -> 38 | J15: =村上市全体!O199 -> 39 | ... O15: =村上市全体!T199 -> 77
... A50: 6547 | B50: 蒲萄 | C50: =村上市全体!H234 -> 52 | D50: =村上市全体!I234 -> 0 | E50: =村上市全体!J234 -> 0 | F50: =村上市全体!K234 -> 52 | G50: =村上市全体!L234 -> 46 | H50: =村上市全体!M234 -> 0 | I50: =村上市全体!N234 -> 46 | J50: =村上市全体!O234 -> 60 | ... O50: =村上市全体!T234 -> 106
A51: 合計 | C51: =SUM(C4:C50) -> 2855 | D51: =SUM(D4:D50) -> 59 | E51: =SUM(E4:E50) -> 18 | F51: =SUM(F4:F50) -> 2932 | G51: =SUM(G4:G50) -> 3619 | H51: =SUM(H4:H50) -> 23 | I51: =SUM(I4:I50) -> 3642 | J51: =SUM(J4:J50) -> 3735 | ... O51: =SUM(O4:O50) -> 7434

Sheet 山北地区
A1: =村上市全体!A1 -> 住民基本台帳人口 令和8年9月1日現在
C2: 世帯数 | G2: 人口（男） | J2: 人口（女） | M2: 人口（総計）
A3: 行政区コード | B3: 行政区名 | C3: 日本人 | D3: 外国人 | E3: 複数国籍 | F3: 計 | G3: 日本人男 | H3: 外国人男 | I3: 計 | J3: 日本人女 | K3: 外国人女 | L3: 計 | M3: 日本人 | N3: 外国人 | O3: 計
A4: 7011 | B4: 府屋学校町 | C4: =村上市全体!H235 -> 108 | D4: =村上市全体!I235 -> 9 | E4: =村上市全体!J235 -> 0 | F4: =村上市全体!K235 -> 117 | G4: =村上市全体!L235 -> 117 | H4: =村上市全体!M235 -> 0 | I4: =村上市全体!N235 -> 117 | J4: =村上市全体!O235 -> 116 | ... O4: =村上市全体!T235 -> 242
A5: 7012 | B5: 府屋本町 | C5: =村上市全体!H236 -> 74 | D5: =村上市全体!I236 -> 0 | E5: =村上市全体!J236 -> 0 | F5: =村上市全体!K236 -> 74 | G5: =村上市全体!L236 -> 68 | H5: =村上市全体!M236 -> 0 | I5: =村上市全体!N236 -> 68 | J5: =村上市全体!O236 -> 82 | ... O5: =村上市全体!T236 -> 150
A6: 7013 | B6: 府屋浜町 | C6: =村上市全体!H237 -> 64 | D6: =村上市全体!I237 -> 0 | E6: =村上市全体!J237 -> 1 | F6: =村上市全体!K237 -> 65 | G6: =村上市全体!L237 -> 75 | H6: =村上市全体!M237 -> 0 | I6: =村上市全体!N237 -> 75 | J6: =村上市全体!O237 -> 78 | ... O6: =村上市全体!T237 -> 154
A7: 7014 | B7: 府屋駅前通 | C7: =村上市全体!H238 -> 101 | D7: =村上市全体!I238 -> 0 | E7: =村上市全体!J238 -> 1 | F7: =村上市全体!K238 -> 102 | G7: =村上市全体!L238 -> 92 | H7: =村上市全体!M238 -> 0 | I7: =村上市全体!N238 -> 92 | J7: =村上市全体!O238 -> 113 | ... O7: =村上市全体!T238 -> 206
A8: 7020 | B8: 岩崎 | C8: =村上市全体!H239 -> 38 | D8: =村上市全体!I239 -> 0 | E8: =村上市全体!J239 -> 2 | F8: =村上市全体!K239 -> 40 | G8: =村上市全体!L239 -> 44 | H8: =村上市全体!M239 -> 0 | I8: =村上市全体!N239 -> 44 | J8: =村上市全体!O239 -> 42 | ... O8: =村上市全体!T239 -> 88
A9: 7030 | B9: 中浜 | C9: =村上市全体!H240 -> 43 | D9: =村上市全体!I240 -> 8 | E9: =村上市全体!J240 -> 0 | F9: =村上市全体!K240 -> 51 | G9: =村上市全体!L240 -> 33 | H9: =村上市全体!M240 -> 4 | I9: =村上市全体!N240 -> 37 | J9: =村上市全体!O240 -> 52 | ... O9: =村上市全体!T240 -> 93
A10: 7040 | B10: 伊呉野 | C10: =村上市全体!H241 -> 37 | D10: =村上市全体!I241 -> 0 | E10: =村上市全体!J241 -> 0 | F10: =村上市全体!K241 -> 37 | G10: =村上市全体!L241 -> 36 | H10: =村上市全体!M241 -> 0 | I10: =村上市全体!N241 -> 36 | J10: =村上市全体!O241 -> 44 | ... O10: =村上市全体!T241 -> 80
A11: 7050 | B11: 堀ノ内 | C11: =村上市全体!H242 -> 36 | D11: =村上市全体!I242 -> 1 | E11: =村上市全体!J242 -> 0 | F11: =村上市全体!K242 -> 37 | G11: =村上市全体!L242 -> 37 | H11: =村上市全体!M242 -> 1 | I11: =村上市全体!N242 -> 38 | J11: =村上市全体!O242 -> 38 | ... O11: =村上市全体!T242 -> 76
A12: 7060 | B12: 温出 | C12: =村上市全体!H243 -> 32 | D12: =村上市全体!I243 -> 0 | E12: =村上市全体!J243 -> 0 | F12: =村上市全体!K243 -> 32 | G12: =村上市全体!L243 -> 31 | H12: =村上市全体!M243 -> 0 | I12: =村上市全体!N243 -> 31 | J12: =村上市全体!O243 -> 36 | ... O12: =村上市全体!T243 -> 67
A13: 7070 | B13: 大谷沢 | C13: =村上市全体!H244 -> 24 | D13: =村上市全体!I244 -> 0 | E13: =村上市全体!J244 -> 0 | F13: =村上市全体!K244 -> 24 | G13: =村上市全体!L244 -> 29 | H13: =村上市全体!M244 -> 0 | I13: =村上市全体!N244 -> 29 | J13: =村上市全体!O244 -> 28 | ... O13: =村上市全体!T244 -> 57
A14: 7080 | B14: 塔下 | C14: =村上市全体!H245 -> 19 | D14: =村上市全体!I245 -> 0 | E14: =村上市全体!J245 -> 0 | F14: =村上市全体!K245 -> 19 | G14: =村上市全体!L245 -> 21 | H14: =村上市全体!M245 -> 0 | I14: =村上市全体!N245 -> 21 | J14: =村上市全体!O245 -> 28 | ... O14: =村上市全体!T245 -> 49
A15: 7090 | B15: 杉平 | C15: =村上市全体!H246 -> 19 | D15: =村上市全体!I246 -> 0 | E15: =村上市全体!J246 -> 0 | F15: =村上市全体!K246 -> 19 | G15: =村上市全体!L246 -> 17 | H15: =村上市全体!M246 -> 0 | I15: =村上市全体!N246 -> 17 | J15: =村上市全体!O246 -> 24 | ... O15: =村上市全体!T246 -> 41
... A52: 7490 | B52: 越沢 | C52: =村上市全体!H283 -> 42 | D52: =村上市全体!I283 -> 0 | E52: =村上市全体!J283 -> 0 | F52: =村上市全体!K283 -> 42 | G52: =村上市全体!L283 -> 49 | H52: =村上市全体!M283 -> 0 | I52: =村上市全体!N283 -> 49 | J52: =村上市全体!O283 -> 57 | ... O52: =村上市全体!T283 -> 106
A53: 合計 | C53: =SUM(C4:C52) -> 1879 | D53: =SUM(D4:D52) -> 30 | E53: =SUM(E4:E52) -> 13 | F53: =SUM(F4:F52) -> 1922 | G53: =SUM(G4:G52) -> 2018 | H53: =SUM(H4:H52) -> 9 | I53: =SUM(I4:I52) -> 2027 | J53: =SUM(J4:J52) -> 2258 | ... O53: =SUM(O4:O52) -> 4319

Sheet 集計表
A1: =村上市全体!A1 -> 住民基本台帳人口 令和8年9月1日現在
A2: 地区別 | C2: 世帯数 | G2: 人口（男） | J2: 人口（女） | M2: 人口（総計）
C3: 日本人 | D3: 外国人 | E3: 複数国籍 | F3: 計 | G3: 日本人男 | H3: 外国人男 | I3: 計 | J3: 日本人女 | K3: 外国人女 | L3: 計 | M3: 日本人 | N3: 外国人 | O3: 計
A4: 村上地区 | C4: =村上地区!C117 -> 10270 | D4: =村上地区!D117 -> 211 | E4: =村上地区!E117 -> 32 | F4: =村上地区!F117 -> 10513 | G4: =村上地区!G117 -> 11060 | H4: =村上地区!H117 -> 99 | I4: =村上地区!I117 -> 11159 | J4: =村上地区!J117 -> 11989 | ... O4: =村上地区!O117 -> 23308
B5: 村上 | C5: =SUM(村上地区!C4:C32)+SUM(村上地区!C38:C49) -> 5212 | D5: =SUM(村上地区!D4:D32)+SUM(村上地区!D38:D49) -> 112 | E5: =SUM(村上地区!E4:E32)+SUM(村上地区!E38:E49) -> 17 | F5: =SUM(村上地区!F4:F32)+SUM(村上地区!F38:F49) -> 5341 | G5: =SUM(村上地区!G4:G32)+SUM(村上地区!G38:G49) -> 5402 | H5: =SUM(村上地区!H4:H32)+SUM(村上地区!H38:H49) -> 61 | I5: =SUM(村上地区!I4:I32)+SUM(村上地区!I38:I49) -> 5463 | J5: =SUM(村上地区!J4:J32)+SUM(村上地区!J38:J49) -> 5912 | ... O5: =SUM(村上地区!O4:O32)+SUM(村上地区!O38:O49) -> 11450
B6: 岩船 | C6: =SUM(村上地区!C50:C66) -> 1432 | D6: =SUM(村上地区!D50:D66) -> 39 | E6: =SUM(村上地区!E50:E66) -> 0 | F6: =SUM(村上地区!F50:F66) -> 1471 | G6: =SUM(村上地区!G50:G66) -> 1495 | H6: =SUM(村上地区!H50:H66) -> 19 | I6: =SUM(村上地区!I50:I66) -> 1514 | J6: =SUM(村上地区!J50:J66) -> 1708 | ... O6: =SUM(村上地区!O50:O66) -> 3242
B7: 瀬波 | C7: =SUM(村上地区!C67:C88)+SUM(村上地区!C33:C37) -> 1991 | D7: =SUM(村上地区!D67:D88)+SUM(村上地区!D33:D37) -> 11 | E7: =SUM(村上地区!E67:E88)+SUM(村上地区!E33:E37) -> 9 | F7: =SUM(村上地区!F67:F88)+SUM(村上地区!F33:F37) -> 2011 | G7: =SUM(村上地区!G67:G88)+SUM(村上地区!G33:G37) -> 2152 | H7: =SUM(村上地区!H67:H88)+SUM(村上地区!H33:H37) -> 11 | I7: =SUM(村上地区!I67:I88)+SUM(村上地区!I33:I37) -> 2163 | J7: =SUM(村上地区!J67:J88)+SUM(村上地区!J33:J37) -> 2359 | ... O7: =SUM(村上地区!O67:O88)+SUM(村上地区!O33:O37) -> 4534
B8: 山辺里 | C8: =SUM(村上地区!C89:C108) -> 1249 | D8: =SUM(村上地区!D89:D108) -> 49 | E8: =SUM(村上地区!E89:E108) -> 6 | F8: =SUM(村上地区!F89:F108) -> 1304 | G8: =SUM(村上地区!G89:G108) -> 1653 | H8: =SUM(村上地区!H89:H108) -> 8 | I8: =SUM(村上地区!I89:I108) -> 1661 | J8: =SUM(村上地区!J89:J108) -> 1596 | ... O8: =SUM(村上地区!O89:O108) -> 3310
B9: 上海府 | C9: =SUM(村上地区!C109:C116) -> 386 | D9: =SUM(村上地区!D109:D116) -> 0 | E9: =SUM(村上地区!E109:E116) -> 0 | F9: =SUM(村上地区!F109:F116) -> 386 | G9: =SUM(村上地区!G109:G116) -> 358 | H9: =SUM(村上地区!H109:H116) -> 0 | I9: =SUM(村上地区!I109:I116) -> 358 | J9: =SUM(村上地区!J109:J116) -> 414 | ... O9: =SUM(村上地区!O109:O116) -> 772
A10: 荒川地区 | C10: =荒川地区!C35 -> 3593 | D10: =荒川地区!D35 -> 156 | E10: =荒川地区!E35 -> 12 | F10: =荒川地区!F35 -> 3761 | G10: =荒川地区!G35 -> 4327 | H10: =荒川地区!H35 -> 48 | I10: =荒川地区!I35 -> 4375 | J10: =荒川地区!J35 -> 4559 | ... O10: =荒川地区!O35 -> 9063
A11: 神林地区 | C11: =神林地区!C44 -> 2782 | D11: =神林地区!D44 -> 25 | E11: =神林地区!E44 -> 12 | F11: =神林地区!F44 -> 2819 | G11: =神林地区!G44 -> 3508 | H11: =神林地区!H44 -> 22 | I11: =神林地区!I44 -> 3530 | J11: =神林地区!J44 -> 3752 | ... O11: =神林地区!O44 -> 7299
A12: 朝日地区 | C12: =朝日地区!C51 -> 2855 | D12: =朝日地区!D51 -> 59 | E12: =朝日地区!E51 -> 18 | F12: =朝日地区!F51 -> 2932 | G12: =朝日地区!G51 -> 3619 | H12: =朝日地区!H51 -> 23 | I12: =朝日地区!I51 -> 3642 | J12: =朝日地区!J51 -> 3735 | ... O12: =朝日地区!O51 -> 7434
A13: 山北地区 | C13: =山北地区!C53 -> 1879 | D13: =山北地区!D53 -> 30 | E13: =山北地区!E53 -> 13 | F13: =山北地区!F53 -> 1922 | G13: =山北地区!G53 -> 2018 | H13: =山北地区!H53 -> 9 | I13: =山北地区!I53 -> 2027 | J13: =山北地区!J53 -> 2258 | ... O13: =山北地区!O53 -> 4319
A14: 合計 | C14: =村上市全体!H284 -> 21379 | D14: =村上市全体!I284 -> 481 | E14: =村上市全体!J284 -> 87 | F14: =村上市全体!K284 -> 21947 | G14: =村上市全体!L284 -> 24532 | H14: =村上市全体!M284 -> 201 | I14: =村上市全体!N284 -> 24733 | J14: =村上市全体!O284 -> 26293 | ... O14: =村上市全体!T284 -> 51423

Sheet Sheet1
